BEGIN:VCALENDAR
VERSION:2.0
PRODID:-//hacksw/handcal//NONSGML v1.0//EN
CALSCALE:GREGORIAN
BEGIN:VEVENT
UID:69e63bad886b3
DTSTART:20191117T203000Z
DTSTAMP:20260420T144357Z
DTEND:20191118T203000Z
LOCATION:Helsinki
DESCRIPTION:Nano Tenchnology Event
URL;VALUE=URI:https://biopolymers.materialsconferences.com/
SUMMARY:10th International Conference on  Biopolymers and Polymer Sci
 iences
END:VEVENT
END:VCALENDAR
