BEGIN:VCALENDAR
VERSION:2.0
PRODID:-//hacksw/handcal//NONSGML v1.0//EN
CALSCALE:GREGORIAN
BEGIN:VEVENT
UID:69e63bad0e5fc
DTSTART:20191113T203000Z
DTSTAMP:20260420T144357Z
DTEND:20191114T203000Z
LOCATION:Istanbul
DESCRIPTION:Nano Tenchnology Event
URL;VALUE=URI:https://materialscience.materialsconferences.com/
SUMMARY:32nd Materials Science and Engineering Conference: Advancemen
 nt & Innovations
END:VEVENT
END:VCALENDAR
