BEGIN:VCALENDAR
VERSION:2.0
PRODID:-//hacksw/handcal//NONSGML v1.0//EN
CALSCALE:GREGORIAN
BEGIN:VEVENT
UID:69e64fb4b2b6b
DTSTART:20190925T203000Z
DTSTAMP:20260420T160924Z
DTEND:20190926T203000Z
LOCATION:Dubai
DESCRIPTION:Nano Tenchnology Event
URL;VALUE=URI:https://materialscience-nano.conferenceseries.com/
SUMMARY:21st International Conference on  Advanced Materials Science 
  & Nano Technology
END:VEVENT
END:VCALENDAR
