BEGIN:VCALENDAR
VERSION:2.0
PRODID:-//hacksw/handcal//NONSGML v1.0//EN
CALSCALE:GREGORIAN
BEGIN:VEVENT
UID:69e63bd5f3460
DTSTART:20191022T203000Z
DTSTAMP:20260420T144437Z
DTEND:20191023T203000Z
LOCATION:Tokyo
DESCRIPTION:Nano Tenchnology Event
URL;VALUE=URI:https://polymerscience.materialsconferences.com/
SUMMARY:10th Asia Pacific Congress on  Polymer Science and Engineerin
 ng
END:VEVENT
END:VCALENDAR
