BEGIN:VCALENDAR
VERSION:2.0
PRODID:-//hacksw/handcal//NONSGML v1.0//EN
CALSCALE:GREGORIAN
BEGIN:VEVENT
UID:69e63bae0e28f
DTSTART:20191020T203000Z
DTSTAMP:20260420T144358Z
DTEND:20191021T203000Z
LOCATION:Rome
DESCRIPTION:Nano Tenchnology Event
URL;VALUE=URI:https://europe.materialsconferences.com/
SUMMARY:24th International Conference on  Advanced Materials & Nanote
 echnology
END:VEVENT
END:VCALENDAR
