BEGIN:VCALENDAR
VERSION:2.0
PRODID:-//hacksw/handcal//NONSGML v1.0//EN
CALSCALE:GREGORIAN
BEGIN:VEVENT
UID:69e64fb594782
DTSTART:20190925T203000Z
DTSTAMP:20260420T160925Z
DTEND:20190926T203000Z
LOCATION:Dubai
DESCRIPTION:Nano Tenchnology Event
URL;VALUE=URI:https://materialselectrochemistry.conferenceseries.com/
SUMMARY:Materials Electrochemistry Conference: Advancements and Break
 kthroughs
END:VEVENT
END:VCALENDAR
