BEGIN:VCALENDAR
VERSION:2.0
PRODID:-//hacksw/handcal//NONSGML v1.0//EN
CALSCALE:GREGORIAN
BEGIN:VEVENT
UID:69e664f7b64bd
DTSTART:20190721T193000Z
DTSTAMP:20260420T174007Z
DTEND:20190722T193000Z
LOCATION:Melbourne
DESCRIPTION:Nano Tenchnology Event
URL;VALUE=URI:https://materials.materialsconferences.com/
SUMMARY:35th World Congress on  Materials Science and Nanotechnology
END:VEVENT
END:VCALENDAR
