BEGIN:VCALENDAR
VERSION:2.0
PRODID:-//hacksw/handcal//NONSGML v1.0//EN
CALSCALE:GREGORIAN
BEGIN:VEVENT
UID:69e64f981e620
DTSTART:20190818T193000Z
DTSTAMP:20260420T160856Z
DTEND:20190819T193000Z
LOCATION:Tokyo
DESCRIPTION:Nano Tenchnology Event
URL;VALUE=URI:https://advancedmaterials.conferenceseries.com/
SUMMARY:23rd International Conference on  Advanced Materials & Nanote
 echnology
END:VEVENT
END:VCALENDAR
