BEGIN:VCALENDAR
VERSION:2.0
PRODID:-//hacksw/handcal//NONSGML v1.0//EN
CALSCALE:GREGORIAN
BEGIN:VEVENT
UID:69e664f83cdb0
DTSTART:20190717T193000Z
DTSTAMP:20260420T174008Z
DTEND:20190718T193000Z
LOCATION:Abu Dhabi
DESCRIPTION:Nano Tenchnology Event
URL;VALUE=URI:https://polymer-catalysis.conferenceseries.com/
SUMMARY:2nd International Conference on  Polymerization Catalysis\, F
 Flexible Polymer and Nanotechnology
END:VEVENT
END:VCALENDAR
