BEGIN:VCALENDAR
VERSION:2.0
PRODID:-//hacksw/handcal//NONSGML v1.0//EN
CALSCALE:GREGORIAN
BEGIN:VEVENT
UID:69e664fa5731d
DTSTART:20190623T193000Z
DTSTAMP:20260420T174010Z
DTEND:20190625T193000Z
LOCATION:Vienna
DESCRIPTION:Nano Tenchnology Event
URL;VALUE=URI:https://materialsscience.insightconferences.com/
SUMMARY:20th World Congress on  Materials Science and Engineering
END:VEVENT
END:VCALENDAR
