BEGIN:VCALENDAR
VERSION:2.0
PRODID:-//hacksw/handcal//NONSGML v1.0//EN
CALSCALE:GREGORIAN
BEGIN:VEVENT
UID:69e664fa0d9d5
DTSTART:20190710T193000Z
DTSTAMP:20260420T174010Z
DTEND:20190711T193000Z
LOCATION:Zurich
DESCRIPTION:Nano Tenchnology Event
URL;VALUE=URI:https://energymaterials.materialsconferences.com/
SUMMARY:21st International Conference on  Advanced Energy Materials a
 and Research
END:VEVENT
END:VCALENDAR
