BEGIN:VCALENDAR
VERSION:2.0
PRODID:-//hacksw/handcal//NONSGML v1.0//EN
CALSCALE:GREGORIAN
BEGIN:VEVENT
UID:69e67c25688f3
DTSTART:20190526T193000Z
DTSTAMP:20260420T191901Z
DTEND:20190527T193000Z
LOCATION:Taipei
DESCRIPTION:Nano Tenchnology Event
URL;VALUE=URI:https://engineering.materialsconferences.com/
SUMMARY:21st World Congress on  Materials Science and Engineering
END:VEVENT
END:VCALENDAR
