BEGIN:VCALENDAR
VERSION:2.0
PRODID:-//hacksw/handcal//NONSGML v1.0//EN
CALSCALE:GREGORIAN
BEGIN:VEVENT
UID:69e67bed9f3d9
DTSTART:20190407T193000Z
DTSTAMP:20260420T191805Z
DTEND:20190408T193000Z
LOCATION:Toronto
DESCRIPTION:Nano Tenchnology Event
URL;VALUE=URI:https://smartmaterials-structures.conferenceseries.com/
SUMMARY:7th International Conference on  Smart Materials and Sustaina
 able Technologies
END:VEVENT
END:VCALENDAR
