BEGIN:VCALENDAR
VERSION:2.0
PRODID:-//hacksw/handcal//NONSGML v1.0//EN
CALSCALE:GREGORIAN
BEGIN:VEVENT
UID:69e67c592d44d
DTSTART:20190423T193000Z
DTSTAMP:20260420T191953Z
DTEND:20190424T193000Z
LOCATION:Budapest
DESCRIPTION:Nano Tenchnology Event
URL;VALUE=URI:https://nano.materialsconferences.com/
SUMMARY:World Congress on  Nanomaterials and Nanotechnology
END:VEVENT
END:VCALENDAR
