BEGIN:VCALENDAR
VERSION:2.0
PRODID:-//hacksw/handcal//NONSGML v1.0//EN
CALSCALE:GREGORIAN
BEGIN:VEVENT
UID:69e68f9d6ab60
DTSTART:20190327T193000Z
DTSTAMP:20260420T204205Z
DTEND:20190328T193000Z
LOCATION:Orlando
DESCRIPTION:Nano Tenchnology Event
URL;VALUE=URI:https://diamond-carbon.conferenceseries.com/
SUMMARY:3rd International Conference and Expo on  Diamond\, Graphite 
  & Carbon Materials
END:VEVENT
END:VCALENDAR
