BEGIN:VCALENDAR
VERSION:2.0
PRODID:-//hacksw/handcal//NONSGML v1.0//EN
CALSCALE:GREGORIAN
BEGIN:VEVENT
UID:69e69d247d967
DTSTART:20190324T193000Z
DTSTAMP:20260420T213948Z
DTEND:20190325T193000Z
LOCATION:Yokohama
DESCRIPTION:Nano Tenchnology Event
URL;VALUE=URI:https://materialsscience.conferenceseries.com/asia-paci
 ific/
SUMMARY:19th International Conference and Exhibition on  Materials Sc
 cience and Engineering
END:VEVENT
END:VCALENDAR
