BEGIN:VCALENDAR
VERSION:2.0
PRODID:-//hacksw/handcal//NONSGML v1.0//EN
CALSCALE:GREGORIAN
BEGIN:VEVENT
UID:69e686d4a20f6
DTSTART:20190310T203000Z
DTSTAMP:20260420T200436Z
DTEND:20190311T203000Z
LOCATION:Nice
DESCRIPTION:Nano Tenchnology Event
URL;VALUE=URI:https://biomaterials.materialsconferences.com/
SUMMARY:5th Annual Conference on  Biomaterials
END:VEVENT
END:VCALENDAR
