BEGIN:VCALENDAR
VERSION:2.0
PRODID:-//hacksw/handcal//NONSGML v1.0//EN
CALSCALE:GREGORIAN
BEGIN:VEVENT
UID:69e686d4de825
DTSTART:20190227T203000Z
DTSTAMP:20260420T200436Z
DTEND:20190228T203000Z
LOCATION:Osaka
DESCRIPTION:Nano Tenchnology Event
URL;VALUE=URI:https://global.pharmaceuticalconferences.com/
SUMMARY:Global Pharmaceutical and Pharma Industry Conference
END:VEVENT
END:VCALENDAR
