BEGIN:VCALENDAR
VERSION:2.0
PRODID:-//hacksw/handcal//NONSGML v1.0//EN
CALSCALE:GREGORIAN
BEGIN:VEVENT
UID:69e67c25516af
DTSTART:20190519T193000Z
DTSTAMP:20260420T191901Z
DTEND:20190521T193000Z
LOCATION:Zurich
DESCRIPTION:Nano Tenchnology Event
URL;VALUE=URI:https://europe.pharmaceuticalconferences.com/
SUMMARY:21st Annual European Pharma Congress
END:VEVENT
END:VCALENDAR
