BEGIN:VCALENDAR
VERSION:2.0
PRODID:-//hacksw/handcal//NONSGML v1.0//EN
CALSCALE:GREGORIAN
BEGIN:VEVENT
UID:69e664f08edee
DTSTART:20190730T193000Z
DTSTAMP:20260420T174000Z
DTEND:20190731T193000Z
LOCATION:Amsterdam
DESCRIPTION:Nano Tenchnology Event
URL;VALUE=URI:https://molecularpathology.pathologyconferences.com/
SUMMARY:International Conference on  Molecular Pathology
END:VEVENT
END:VCALENDAR
