BEGIN:VCALENDAR
VERSION:2.0
PRODID:-//hacksw/handcal//NONSGML v1.0//EN
CALSCALE:GREGORIAN
BEGIN:VEVENT
UID:69e64f95aff41
DTSTART:20190828T193000Z
DTSTAMP:20260420T160853Z
DTEND:20190829T193000Z
LOCATION:London
DESCRIPTION:Nano Tenchnology Event
URL;VALUE=URI:https://personalizedmedicine.conferenceseries.com/europ
 pe/
SUMMARY:10th European Conference on  Predictive\, Preventive & Person
 nalized Medicine and Molecular Diagnostics
END:VEVENT
END:VCALENDAR
