BEGIN:VCALENDAR
VERSION:2.0
PRODID:-//hacksw/handcal//NONSGML v1.0//EN
CALSCALE:GREGORIAN
BEGIN:VEVENT
UID:69e64f955a70d
DTSTART:20190924T203000Z
DTSTAMP:20260420T160853Z
DTEND:20190925T203000Z
LOCATION:Copenhagen
DESCRIPTION:Nano Tenchnology Event
URL;VALUE=URI:https://nutrition-foodchemistry.insightconferences.com/
SUMMARY:18th World Congress on  Nutrition and Food Chemistry
END:VEVENT
END:VCALENDAR
