BEGIN:VCALENDAR
VERSION:2.0
PRODID:-//hacksw/handcal//NONSGML v1.0//EN
CALSCALE:GREGORIAN
BEGIN:VEVENT
UID:69e64f9906d6e
DTSTART:20190922T203000Z
DTSTAMP:20260420T160857Z
DTEND:20190923T203000Z
LOCATION:Hong Kong
DESCRIPTION:Nano Tenchnology Event
URL;VALUE=URI:https://brainscience.neurologyconference.com/
SUMMARY:32nd International conference on  Brain Science and Cognitive
 e Research
END:VEVENT
END:VCALENDAR
