BEGIN:VCALENDAR
VERSION:2.0
PRODID:-//hacksw/handcal//NONSGML v1.0//EN
CALSCALE:GREGORIAN
BEGIN:VEVENT
UID:69e664eceeefc
DTSTART:20190623T193000Z
DTSTAMP:20260420T173956Z
DTEND:20190624T193000Z
LOCATION:Ho Chi Minh City
DESCRIPTION:Nano Tenchnology Event
URL;VALUE=URI:https://neuroimaging.neurologyconference.com/
SUMMARY:4th International Conference on  Neuroscience\, Neuroradiolog
 gy and Imaging
END:VEVENT
END:VCALENDAR
