BEGIN:VCALENDAR
VERSION:2.0
PRODID:-//hacksw/handcal//NONSGML v1.0//EN
CALSCALE:GREGORIAN
BEGIN:VEVENT
UID:69e67c58b6b25
DTSTART:20190512T193000Z
DTSTAMP:20260420T191952Z
DTEND:20190513T193000Z
LOCATION:Singapore
DESCRIPTION:Nano Tenchnology Event
URL;VALUE=URI:https://greenchem.conferenceseries.com/
SUMMARY:6th World Congress on  Green Chemistry and Recycling
END:VEVENT
END:VCALENDAR
