BEGIN:VCALENDAR
VERSION:2.0
PRODID:-//hacksw/handcal//NONSGML v1.0//EN
CALSCALE:GREGORIAN
BEGIN:VEVENT
UID:69e6871b99f86
DTSTART:20190221T203000Z
DTSTAMP:20260420T200547Z
DTEND:20190222T203000Z
LOCATION:San Francisco
DESCRIPTION:Nano Tenchnology Event
URL;VALUE=URI:https://renewableenergy.conferenceseries.com/
SUMMARY:3rd International Conference on  Renewable and Smart Energy R
 Resources
END:VEVENT
END:VCALENDAR
