BEGIN:VCALENDAR
VERSION:2.0
PRODID:-//hacksw/handcal//NONSGML v1.0//EN
CALSCALE:GREGORIAN
BEGIN:VEVENT
UID:69e67bebd2aa9
DTSTART:20190512T193000Z
DTSTAMP:20260420T191803Z
DTEND:20190513T193000Z
LOCATION:Tokyo
DESCRIPTION:Nano Tenchnology Event
URL;VALUE=URI:https://foodscience-processing.foodtechconferences.com/
SUMMARY:3rd World Congress on  Advances in Food Science\, Processing 
  and Technology
END:VEVENT
END:VCALENDAR
