BEGIN:VCALENDAR
VERSION:2.0
PRODID:-//hacksw/handcal//NONSGML v1.0//EN
CALSCALE:GREGORIAN
BEGIN:VEVENT
UID:69e686d42b745
DTSTART:20190317T203000Z
DTSTAMP:20260420T200436Z
DTEND:20190318T203000Z
LOCATION:Dubai
DESCRIPTION:Nano Tenchnology Event
URL;VALUE=URI:https://bonetissueengineering.conferenceseries.com/
SUMMARY:International Conference on  Biomaterials for Bone Tissue Eng
 gineering
END:VEVENT
END:VCALENDAR
