BEGIN:VCALENDAR
VERSION:2.0
PRODID:-//hacksw/handcal//NONSGML v1.0//EN
CALSCALE:GREGORIAN
BEGIN:VEVENT
UID:69e64f98682fc
DTSTART:20190912T193000Z
DTSTAMP:20260420T160856Z
DTEND:20190913T193000Z
LOCATION:Tokyo
DESCRIPTION:Nano Tenchnology Event
URL;VALUE=URI:https://stemcell.geneticconferences.com/
SUMMARY:13th World Congress on  Stem Cell Biology and Bio Banking
END:VEVENT
END:VCALENDAR
