BEGIN:VCALENDAR
VERSION:2.0
PRODID:-//hacksw/handcal//NONSGML v1.0//EN
CALSCALE:GREGORIAN
BEGIN:VEVENT
UID:69e664ed8533e
DTSTART:20190729T193000Z
DTSTAMP:20260420T173957Z
DTEND:20190730T193000Z
LOCATION:Amsterdam
DESCRIPTION:Nano Tenchnology Event
URL;VALUE=URI:https://polymerscience.annualcongress.com/
SUMMARY:5th Edition of International Conference on  Polymer Science a
 and Technology
END:VEVENT
END:VCALENDAR
