BEGIN:VCALENDAR
VERSION:2.0
PRODID:-//hacksw/handcal//NONSGML v1.0//EN
CALSCALE:GREGORIAN
BEGIN:VEVENT
UID:69e664f00b8ab
DTSTART:20190807T193000Z
DTSTAMP:20260420T174000Z
DTEND:20190808T193000Z
LOCATION:Amsterdam
DESCRIPTION:Nano Tenchnology Event
URL;VALUE=URI:https://organic-chemistry.chemistryconferences.org/
SUMMARY:6th International Conference on  Organic and Inorganic Chemis
 stry
END:VEVENT
END:VCALENDAR
