BEGIN:VCALENDAR
VERSION:2.0
PRODID:-//hacksw/handcal//NONSGML v1.0//EN
CALSCALE:GREGORIAN
BEGIN:VEVENT
UID:69e64fb60eb58
DTSTART:20191009T203000Z
DTSTAMP:20260420T160926Z
DTEND:20191010T203000Z
LOCATION:Stockholm
DESCRIPTION:Nano Tenchnology Event
URL;VALUE=URI:https://chemistry.chemistryconferences.org/
SUMMARY:11th World Congress on  Chemistry
END:VEVENT
END:VCALENDAR
