BEGIN:VCALENDAR
VERSION:2.0
PRODID:-//hacksw/handcal//NONSGML v1.0//EN
CALSCALE:GREGORIAN
BEGIN:VEVENT
UID:69e64fb57fb98
DTSTART:20191013T203000Z
DTSTAMP:20260420T160925Z
DTEND:20191014T203000Z
LOCATION:London
DESCRIPTION:Nano Tenchnology Event
URL;VALUE=URI:https://separationtechniques.chemistryconferences.org/
SUMMARY:15th International Conference and Expo on  Separation Techniq
 ques
END:VEVENT
END:VCALENDAR
