BEGIN:VCALENDAR
VERSION:2.0
PRODID:-//hacksw/handcal//NONSGML v1.0//EN
CALSCALE:GREGORIAN
BEGIN:VEVENT
UID:69e63b892df89
DTSTART:20191113T203000Z
DTSTAMP:20260420T144321Z
DTEND:20191114T203000Z
LOCATION:Helsinki
DESCRIPTION:Nano Tenchnology Event
URL;VALUE=URI:https://green-catalysis.conferenceseries.com/
SUMMARY:2nd Annual Conference on  Green Catalysis and Sustainable Ene
 ergy
END:VEVENT
END:VCALENDAR
