BEGIN:VCALENDAR
VERSION:2.0
PRODID:-//hacksw/handcal//NONSGML v1.0//EN
CALSCALE:GREGORIAN
BEGIN:VEVENT
UID:69e664ee84c89
DTSTART:20190725T193000Z
DTSTAMP:20260420T173958Z
DTEND:20190726T193000Z
LOCATION:Vancouver
DESCRIPTION:Nano Tenchnology Event
URL;VALUE=URI:https://organicchemistry.conferenceseries.com/
SUMMARY:25th International Conference on  Organic & Inorganic Chemist
 try
END:VEVENT
END:VCALENDAR
