BEGIN:VCALENDAR
VERSION:2.0
PRODID:-//hacksw/handcal//NONSGML v1.0//EN
CALSCALE:GREGORIAN
BEGIN:VEVENT
UID:69e64f96afe6e
DTSTART:20190926T203000Z
DTSTAMP:20260420T160854Z
DTEND:20190927T203000Z
LOCATION:Toronto
DESCRIPTION:Nano Tenchnology Event
URL;VALUE=URI:https://chemistrydrugdiscovery.pharmaceuticalconference
 es.com/
SUMMARY:29th International conference on  Drug Designing & Medicinal 
  Drug Discovery
END:VEVENT
END:VCALENDAR
