BEGIN:VCALENDAR
VERSION:2.0
PRODID:-//hacksw/handcal//NONSGML v1.0//EN
CALSCALE:GREGORIAN
BEGIN:VEVENT
UID:69e6871b15a4a
DTSTART:20190305T203000Z
DTSTAMP:20260420T200547Z
DTEND:20190306T203000Z
LOCATION:Paris
DESCRIPTION:Nano Tenchnology Event
URL;VALUE=URI:https://analyticaltechniques.annualcongress.com/
SUMMARY:9th World Congress on  Spectroscopy & Analytical Techniques
END:VEVENT
END:VCALENDAR
