BEGIN:VCALENDAR
VERSION:2.0
PRODID:-//hacksw/handcal//NONSGML v1.0//EN
CALSCALE:GREGORIAN
BEGIN:VEVENT
UID:69e67c02ce008
DTSTART:20190526T193000Z
DTSTAMP:20260420T191826Z
DTEND:20190527T193000Z
LOCATION:Barcelona
DESCRIPTION:Nano Tenchnology Event
URL;VALUE=URI:https://electrochemistry.chemistryconferences.org/
SUMMARY:13th International Conference on  Electrochemistry
END:VEVENT
END:VCALENDAR
