BEGIN:VCALENDAR
VERSION:2.0
PRODID:-//hacksw/handcal//NONSGML v1.0//EN
CALSCALE:GREGORIAN
BEGIN:VEVENT
UID:69e63b87d94d3
DTSTART:20200517T193000Z
DTSTAMP:20260420T144319Z
DTEND:20200518T193000Z
LOCATION:London
DESCRIPTION:Nano Tenchnology Event
URL;VALUE=URI:https://materialschemistry.chemistryconferences.org/
SUMMARY:18th International Conference and Exhibition on  Materials Sc
 cience and Chemistry
END:VEVENT
END:VCALENDAR
