BEGIN:VCALENDAR
VERSION:2.0
PRODID:-//hacksw/handcal//NONSGML v1.0//EN
CALSCALE:GREGORIAN
BEGIN:VEVENT
UID:69e67c01c1cfb
DTSTART:20190508T193000Z
DTSTAMP:20260420T191825Z
DTEND:20190509T193000Z
LOCATION:Amsterdam
DESCRIPTION:Nano Tenchnology Event
URL;VALUE=URI:https://chemistrymeetings.conferenceseries.com/
SUMMARY:10th International Conference on  Chemistry
END:VEVENT
END:VCALENDAR
