BEGIN:VCALENDAR
VERSION:2.0
PRODID:-//hacksw/handcal//NONSGML v1.0//EN
CALSCALE:GREGORIAN
BEGIN:VEVENT
UID:69e67c265de79
DTSTART:20190425T193000Z
DTSTAMP:20260420T191902Z
DTEND:20190126T203000Z
LOCATION:Vancouver
DESCRIPTION:Nano Tenchnology Event
URL;VALUE=URI:https://greenchemistry.conferenceseries.com/
SUMMARY:22nd International Conference on  Past and Present Research S
 Systems on Green Chemistry
END:VEVENT
END:VCALENDAR
