BEGIN:VCALENDAR
VERSION:2.0
PRODID:-//hacksw/handcal//NONSGML v1.0//EN
CALSCALE:GREGORIAN
BEGIN:VEVENT
UID:69e67c432895e
DTSTART:20190425T193000Z
DTSTAMP:20260420T191931Z
DTEND:20190426T193000Z
LOCATION:Vancouver
DESCRIPTION:Nano Tenchnology Event
URL;VALUE=URI:https://industrialchemistry.conferenceseries.com/
SUMMARY:18th International Conference on  Industrial Chemistry & Wate
 er Treatment
END:VEVENT
END:VCALENDAR
