BEGIN:VCALENDAR
VERSION:2.0
PRODID:-//hacksw/handcal//NONSGML v1.0//EN
CALSCALE:GREGORIAN
BEGIN:VEVENT
UID:69e67c01bcfd9
DTSTART:20190416T193000Z
DTSTAMP:20260420T191825Z
DTEND:20190417T193000Z
LOCATION:Osaka
DESCRIPTION:Nano Tenchnology Event
URL;VALUE=URI:https://spectroscopyconference.massspectra.com/
SUMMARY:9th International Conference and Exhibition on  Spectroscopy 
  and Analytical Techniques
END:VEVENT
END:VCALENDAR
