BEGIN:VCALENDAR
VERSION:2.0
PRODID:-//hacksw/handcal//NONSGML v1.0//EN
CALSCALE:GREGORIAN
BEGIN:VEVENT
UID:69e664f784eb6
DTSTART:20190611T193000Z
DTSTAMP:20260420T174007Z
DTEND:20190612T193000Z
LOCATION:Montreal
DESCRIPTION:Nano Tenchnology Event
URL;VALUE=URI:https://materialsscience.chemistryconferences.org/
SUMMARY:Materials Chemistry Summit 2019
END:VEVENT
END:VCALENDAR
