BEGIN:VCALENDAR
VERSION:2.0
PRODID:-//hacksw/handcal//NONSGML v1.0//EN
CALSCALE:GREGORIAN
BEGIN:VEVENT
UID:69e6650f718fa
DTSTART:20190611T193000Z
DTSTAMP:20260420T174031Z
DTEND:20190612T193000Z
LOCATION:Montreal
DESCRIPTION:Nano Tenchnology Event
URL;VALUE=URI:https://polymer.conferenceseries.com/
SUMMARY:6th International Conference and Exhibition on  Polymer Chemi
 istry
END:VEVENT
END:VCALENDAR
