BEGIN:VCALENDAR
VERSION:2.0
PRODID:-//hacksw/handcal//NONSGML v1.0//EN
CALSCALE:GREGORIAN
BEGIN:VEVENT
UID:69e64fb645e55
DTSTART:20190922T203000Z
DTSTAMP:20260420T160926Z
DTEND:20190923T203000Z
LOCATION:Tokyo
DESCRIPTION:Nano Tenchnology Event
URL;VALUE=URI:https://tissuescience-regenerativemedicine.conferencese
 eries.com/asiapacific/
SUMMARY:10th International Conference on  Tissue Science and Regenera
 ative Medicine
END:VEVENT
END:VCALENDAR
