BEGIN:VCALENDAR
VERSION:2.0
PRODID:-//hacksw/handcal//NONSGML v1.0//EN
CALSCALE:GREGORIAN
BEGIN:VEVENT
UID:69e664fb87d14
DTSTART:20190612T193000Z
DTSTAMP:20260420T174011Z
DTEND:20190613T193000Z
LOCATION:Helsinki
DESCRIPTION:Nano Tenchnology Event
URL;VALUE=URI:https://stemcell-regenerative.conferenceseries.com/
SUMMARY:12th Annual Congress on  Stem Cell & Regenerative Medicine
END:VEVENT
END:VCALENDAR
