BEGIN:VCALENDAR
VERSION:2.0
PRODID:-//hacksw/handcal//NONSGML v1.0//EN
CALSCALE:GREGORIAN
BEGIN:VEVENT
UID:69e6650f15250
DTSTART:20190612T193000Z
DTSTAMP:20260420T174031Z
DTEND:20190613T193000Z
LOCATION:Helsinki
DESCRIPTION:Nano Tenchnology Event
URL;VALUE=URI:https://tissuerepair.conferenceseries.com/
SUMMARY:10th International Tissue Repair and Regeneration Congress
END:VEVENT
END:VCALENDAR
