BEGIN:VCALENDAR
VERSION:2.0
PRODID:-//hacksw/handcal//NONSGML v1.0//EN
CALSCALE:GREGORIAN
BEGIN:VEVENT
UID:69e664ee5e588
DTSTART:20190730T193000Z
DTSTAMP:20260420T173958Z
DTEND:20190731T193000Z
LOCATION:Chicago
DESCRIPTION:Nano Tenchnology Event
URL;VALUE=URI:https://annualbiotech.conferenceseries.com/
SUMMARY:2nd Annual Biotechnology Congress
END:VEVENT
END:VCALENDAR
