BEGIN:VCALENDAR
VERSION:2.0
PRODID:-//hacksw/handcal//NONSGML v1.0//EN
CALSCALE:GREGORIAN
BEGIN:VEVENT
UID:69e68fd693fb9
DTSTART:20190320T203000Z
DTSTAMP:20260420T204302Z
DTEND:20190321T203000Z
LOCATION:Rome
DESCRIPTION:Nano Tenchnology Event
URL;VALUE=URI:https://cellgenetherapy.annualcongress.com/
SUMMARY:9th International Conference and Exhibition on  Advanced Cell
 l and Gene Therapy
END:VEVENT
END:VCALENDAR
